BEGIN:VCALENDAR
VERSION:2.0
PRODID:-//VOACK - ECPv6.15.16//NONSGML v1.0//EN
CALSCALE:GREGORIAN
METHOD:PUBLISH
X-ORIGINAL-URL:https://www.voack.at/en/
X-WR-CALDESC:Events for VOACK
REFRESH-INTERVAL;VALUE=DURATION:PT1H
X-Robots-Tag:noindex
X-PUBLISHED-TTL:PT1H
BEGIN:VTIMEZONE
TZID:Europe/Berlin
BEGIN:DAYLIGHT
TZOFFSETFROM:+0100
TZOFFSETTO:+0200
TZNAME:CEST
DTSTART:20250330T010000
END:DAYLIGHT
BEGIN:STANDARD
TZOFFSETFROM:+0200
TZOFFSETTO:+0100
TZNAME:CET
DTSTART:20251026T010000
END:STANDARD
BEGIN:DAYLIGHT
TZOFFSETFROM:+0100
TZOFFSETTO:+0200
TZNAME:CEST
DTSTART:20260329T010000
END:DAYLIGHT
BEGIN:STANDARD
TZOFFSETFROM:+0200
TZOFFSETTO:+0100
TZNAME:CET
DTSTART:20261025T010000
END:STANDARD
BEGIN:DAYLIGHT
TZOFFSETFROM:+0100
TZOFFSETTO:+0200
TZNAME:CEST
DTSTART:20270328T010000
END:DAYLIGHT
BEGIN:STANDARD
TZOFFSETFROM:+0200
TZOFFSETTO:+0100
TZNAME:CET
DTSTART:20271031T010000
END:STANDARD
END:VTIMEZONE
BEGIN:VEVENT
DTSTART;VALUE=DATE:20260421
DTEND;VALUE=DATE:20260425
DTSTAMP:20260420T024140
CREATED:20210217T085947Z
LAST-MODIFIED:20250730T104208Z
UID:1266-1776729600-1777075199@www.voack.at
SUMMARY:Techtextil | Frankfurt am Main
DESCRIPTION:Leading international trade fair for technical textiles and nonwovens. \n \nInternational exhibitors will be presenting the entire spectrum of technical textiles\, functional apparel textiles and textile technologies at Techtextil in Frankfurt am Main. Texprocess\, the leading trade fair for the garment manufacturing and textile processing industry\, will take place at the same time as Techtextil.
URL:https://www.voack.at/en/event/techtextil-frankfurt/
LOCATION:Messe Frankfurt\, Ludwig-Erhard-Anlage 1 D-60327 Frankfurt am Main\, Frankfurt am Main\, 60327\, Deutschland
ATTACH;FMTTYPE=image/png:https://www.voack.at/wp-content/uploads/2025/07/tt_2026_klein.png
END:VEVENT
END:VCALENDAR